BEGIN:VCALENDAR
VERSION:2.0
PRODID:icalendar-ruby
CALSCALE:GREGORIAN
METHOD:PUBLISH
BEGIN:VEVENT
DTSTAMP:20260422T082527Z
UID:31-1116671@nsidechurch.com
DTSTART:20260827T003000Z
DTEND:20260827T013000Z
CLASS:PUBLIC
CREATED:20260421T182159
DESCRIPTION:Snack Supper
LAST-MODIFIED:20260421T182159
LOCATION:
SUMMARY:Snack Supper
URL;VALUE=URI:https://www.nsidechurch.com/events/snack-supper/2026-08-26
END:VEVENT
END:VCALENDAR
