BEGIN:VCALENDAR
VERSION:2.0
PRODID:icalendar-ruby
CALSCALE:GREGORIAN
METHOD:PUBLISH
BEGIN:VEVENT
DTSTAMP:20260420T112118Z
UID:31-1115058@nsidechurch.com
DTSTART:20260903T003000Z
DTEND:20260903T013000Z
CLASS:PUBLIC
CREATED:20260420T003200
DESCRIPTION:Snack Supper
LAST-MODIFIED:20260420T003200
LOCATION:
SUMMARY:Snack Supper
URL;VALUE=URI:https://www.nsidechurch.com/events/snack-supper/2026-09-02
END:VEVENT
END:VCALENDAR
