BEGIN:VCALENDAR
VERSION:2.0
PRODID:icalendar-ruby
CALSCALE:GREGORIAN
METHOD:PUBLISH
BEGIN:VEVENT
DTSTAMP:20260420T144321Z
UID:31-1115192@nsidechurch.com
DTSTART:20260917T003000Z
DTEND:20260917T013000Z
CLASS:PUBLIC
CREATED:20260420T051220
DESCRIPTION:Snack Supper
LAST-MODIFIED:20260420T051220
LOCATION:
SUMMARY:Snack Supper
URL;VALUE=URI:https://www.nsidechurch.com/events/snack-supper/2026-09-16
END:VEVENT
END:VCALENDAR
