BEGIN:VCALENDAR
VERSION:2.0
PRODID:icalendar-ruby
CALSCALE:GREGORIAN
METHOD:PUBLISH
BEGIN:VEVENT
DTSTAMP:20260420T162425Z
UID:31-1115325@nsidechurch.com
DTSTART:20260924T003000Z
DTEND:20260924T013000Z
CLASS:PUBLIC
CREATED:20260420T074700
DESCRIPTION:Snack Supper
LAST-MODIFIED:20260420T074700
LOCATION:
SUMMARY:Snack Supper
URL;VALUE=URI:https://www.nsidechurch.com/events/snack-supper/2026-09-23
END:VEVENT
END:VCALENDAR
