BEGIN:VCALENDAR
VERSION:2.0
PRODID:icalendar-ruby
CALSCALE:GREGORIAN
METHOD:PUBLISH
BEGIN:VEVENT
DTSTAMP:20260422T083819Z
UID:31-1116676@nsidechurch.com
DTSTART:20261001T003000Z
DTEND:20261001T013000Z
CLASS:PUBLIC
CREATED:20260421T182159
DESCRIPTION:Snack Supper
LAST-MODIFIED:20260421T182159
LOCATION:
SUMMARY:Snack Supper
URL;VALUE=URI:https://www.nsidechurch.com/events/snack-supper/2026-09-30
END:VEVENT
END:VCALENDAR
