BEGIN:VCALENDAR
VERSION:2.0
PRODID:icalendar-ruby
CALSCALE:GREGORIAN
METHOD:PUBLISH
BEGIN:VEVENT
DTSTAMP:20260420T195747Z
UID:31-1115621@nsidechurch.com
DTSTART:20261008T003000Z
DTEND:20261008T013000Z
CLASS:PUBLIC
CREATED:20260420T125614
DESCRIPTION:Snack Supper
LAST-MODIFIED:20260420T125614
LOCATION:
SUMMARY:Snack Supper
URL;VALUE=URI:https://www.nsidechurch.com/events/snack-supper/2026-10-07
END:VEVENT
END:VCALENDAR
