BEGIN:VCALENDAR
VERSION:2.0
PRODID:icalendar-ruby
CALSCALE:GREGORIAN
METHOD:PUBLISH
BEGIN:VEVENT
DTSTAMP:20260420T234154Z
UID:31-1115755@nsidechurch.com
DTSTART:20261022T003000Z
DTEND:20261022T013000Z
CLASS:PUBLIC
CREATED:20260420T153157
DESCRIPTION:Snack Supper
LAST-MODIFIED:20260420T153157
LOCATION:
SUMMARY:Snack Supper
URL;VALUE=URI:https://www.nsidechurch.com/events/snack-supper/2026-10-21
END:VEVENT
END:VCALENDAR
