BEGIN:VCALENDAR
VERSION:2.0
PRODID:icalendar-ruby
CALSCALE:GREGORIAN
METHOD:PUBLISH
BEGIN:VEVENT
DTSTAMP:20260421T012547Z
UID:31-1115888@nsidechurch.com
DTSTART:20261029T003000Z
DTEND:20261029T013000Z
CLASS:PUBLIC
CREATED:20260420T180638
DESCRIPTION:Snack Supper
LAST-MODIFIED:20260420T180638
LOCATION:
SUMMARY:Snack Supper
URL;VALUE=URI:https://www.nsidechurch.com/events/snack-supper/2026-10-28
END:VEVENT
END:VCALENDAR
